Workbook

Sheet COVER
A7: County Government of Kisumu
A8: City of Kisumu
A9: Kisumu Urban Project (KUP)
A10: AFD Agreement No: CKE1035.01.G
A12: PROPOSED DEVELOPMENT OF OTONGLO MARKET
C13: FOR KISUMU URBAN PROJECT
A14: NATIONAL COMPETITIVE BIDDING (NCB) NO: ………
A16: (VOLUME 2 OF 3)
A18: [OCTOBER, 2017]
A20: BILLS OF QUANTITIES
A22: CONSULTANTS

Sheet Signature&contents
C2: OVERALL TABLE OF CONTENTS
A4: VOLUME 1
A6: SECTION I - Letter of Invitation. | J6: 1
A8: PART 1 - BIDDING PROCEDURES.
A10: SECTION II - Instructions to Bidders (ItB). | J10: 2
A12: SECTION III - Bid Data Sheet (BDS). | J12: III-1
A14: SECTION IV - Evaluation and Qualification Criteria. | J14: IV-10
A16: SECTION V - Bidding Forms. | J16: 21
A18: PART 2 - WORKS REQUIREMENTS.
A20: SECTION VI - Works Requirements. | J20: 53
A22: PART 3 - CONDITIONS OF CONTRACT AND CONTRACT FORMS.
A24: SECTION VII - General Conditions (GC) | J24: VII-1
A26: SECTION VIII - Particular Conditions (PC) | J26: XII-96
A28: SECTION IX - Annex to the Particular Conditions - Contract Forms | J28: IX-96
B31: VOLUME 2 | D31: BILLS OF QUANTITIES
B32: VOLUME 3 | D32: DRAWINGS
A35: PROPOSED DEVELOPMENT OF OTONGLO MARKET
C36: FOR KISUMU URBAN PROJECT
F37: FOR
E38: CITY OF KISUMU
D39: BILLS OF QUANTITIES
A41: INDEX
A43: BILL | D43: DESCRIPTION | I43: PAGES
D45: Index | I45: (i)
D47: Signature Page | I47: (ii)
D49: Special Notes | I49: (iii)
A51: No. 1 | D51: Preliminaries | I51: P1-P34
D53: Specifications (Trade Preambles) | I53: 1.-41
A55: No. 2 | D55: Market Sheds | I55: SD1-SD11
A57: No. 3 | D57: Toilet block | I57: TB1-TB21
A59: No. 4 | D59: Guard House/Revenue Office | I59: GH1-GH21
A61: No. 6 | D61: External Works | I61: EW1-EW11
A63: No. 7 | D63: Mechanical Works | I63: M1-M11
A65: No. 8 | D65: Electrical Works | I65: E1-E4
D67: Provisional Sums | I67: PS1
D69: Schedule of Rates | I69: SR1-SR7
D71: Main Summary | I71: MS2
C78: BILLS OF QUANTITIES
E79: FOR
B80: PROPOSED DEVELOPMENT OF OTONGLO MARKET
...

Sheet General Preliminaries 
A1: Item | B1: DESCRIPTION | C1: Kshs. | D1: Cts
A2: 1.1 | B2: PRICING ITEMS OF PRELIMINARIES
B3: Prices SHALL BE INSERTED against items of “preliminaries” in the tenderer’s priced Bills of Quantities. Items not priced shall be deemed to be covered by rates entered in other items of ‘preliminaries’ or ‘measured works’. The contractor is advised to read and understand all preliminary items.
A5: 1.2 | B5: DESCRIPTION OF THE WORKS
B6: The works to be carried out under this contract basically involve the construction of Market sheds,Toilet block,Guard house and associated engineering services, civil works and external works.
A8: 1.3 | B8: MEASUREMENTS
B9: In the event of any discrepancies arising between the Bills of Quantities and the actual works, the site measurements shall generally take precedence. However, such discrepancies between any contract documents shall immediately be referred to the Project Manager in accordance with Clause 22 of the Conditions of Contract. The discrepancies shall then be treated as a variation and be dealt with in accordance with Clause 22 of the said Conditions. In this contract, the term 'Project Manager' shall mean both Architect and Engineer.
A11: 1.4 | B11: LOCATION OF SITE
B12: The site of the proposed works is located in Otonglo in the CITY OF KISUMU. The Contractor is advised to visit the site, to familiarize him with the nature and position of the site. No claims arising from the Contractor’s failure to do so will be entertained.
A14: 1.5 | B14: CLEARING AWAY
B15: The Contractor shall remove all temporary works, rubbish, debris and surplus materials from the site as they accumulate and upon completion of the works, remove and clear away all plant, equipment, rubbish, unused works and stains and leave in a clean and tidy state to the reasonable satisfaction of the Project Manager. The whole of the works shall be delivered up clean, complete and in perfect condition in every respect to the satisfaction of the Project Manager
A17: 1.6 | B17: CLAIMS
B18: It shall be a condition of this contract that upon it becoming reasonably apparent to the Contractor that he has incurred losses and/or expenses due to any of the contract conditions, or by any other reason whatsoever, he shall present such claim or intent to claim notice to the Project Manager within the contract period. No claims shall be entertained upon the expiry of the said contract period.
B20: Carried to Collection Kshs
A21: Item | B21: DESCRIPTION | C21: Kshs. | D21: Cts
A22: 1.7 | B22: ADVANCE PAYMENT
B24: Advance Payment is not applicable and shall therefore not be granted in this Contract.
A26: 1.8 | B26: PREVENTION OF ACCIDENT, DAMAGE OR LOSS
B28: The Contractor is notified that these works are to be carried out on a restricted site where the client is going on with other normal activities. The Contractor is instructed to take reasonable care in the execution of the works as to prevent accidents, damage or loss and disruption of normal activities being carried out by the Client. The Contractor shall allow in his rates any expense he deems necessary by taking such care within the site.
B29: Additional to the normal hoarding as hereunder provided, the contractor shall provide a covered board walk two meters wide around the perimeter of the whole building constructed of 25mm thick timber floor boarding on 100 x 50mm bearers at 600mm center’s both ways: in both ground and first floor levels: 24 gauge galvanized corrugated iron sheet walls and truncated roof cover onto 150 x 50mm and 100 x 50mm timber frames at 600mm center’s vertically and horizontally respectively.
A31: 1.9 | B31: WORKING CONDITIONS
B33: The Contractor shall allow in his rates for any interference that he may encounter in the course of execution of the works for the Client may in some cases ask the Contractor not to proceed with the works until some activities within the site are completed.
A34: 1.1 | B34: ADVANCE PAYMENT
B36: Advance Payment is not applicable and shall therefore not be granted in this Contract.
A38: 1.11 | B38: WORKING CONDITIONS
B40: The Contractor shall allow in his rates for any interference that he may encounter in the course of execution of the works for the Client may in some cases ask the Contractor not to proceed with the works until some activities within the site are completed.
A42: 1.12 | B42: ADVANCE PAYMENT
B44: Advance Payment is not applicable and shall therefore not be granted in this Contract.
B48: Carried to Collection Kshs
A49: Item | B49: DESCRIPTION | C49: Kshs. | D49: Cts
A51: 1.13 | B51: PREVENTION OF ACCIDENT, DAMAGE OR LOSS
B53: The Contractor is notified that these works are to be carried out on a restricted site where the client is going on with other normal activities. The Contractor is instructed to take reasonable care in the execution of the works as to prevent accidents, damage or loss and disruption of normal activities being carried out by the Client. The Contractor shall allow in his rates any expense he deems necessary by taking such care within the site.
B54: The Contractor is notified that these works are to be carried out on a restricted site where the client is going on with other normal activities. The Contractor is instructed to take reasonable care in the execution of the works as to prevent accidents, damage or loss and disruption of normal activities being carried out by the Client. The Contractor shall allow in his rates any expense he deems necessary by taking such care within the site.
A56: 1.14 | B56: SIGN BOARD
B57: Allow for providing, erecting, maintaining throughout the course of the Contract and afterwards clearing away a signboard as designed, specified and approved by the Project Manager.
A59: 1.15 | B59: LABOUR CAMPS
B60: The Contractor shall not be allowed to house labor on site. She/he shall allow for transporting workers to and from the site during the tenure of the contract.
A62: 1.16 | B62: MATERIALS FROM DEMOLITIONS
B63: Any materials arising from demolitions and not re-used shall become the property of the University. The Contractor shall allow in his rates the cost of transporting the demolished materials to a site to be agreed with the Local Authority.
A65: 1.17 | B65: PRICING RATES
...

Sheet Preambles
B20: TRADE PREAMBLES
B45: TRADE PREAMBLES:
A47: 1,0 | B47: GENERAL
A49: 0,1 | B49: Unless otherwise stated the whole of the Main Contract works shall be carried out in accordance with the Ministry of Public Works General Specification for Building Works, 1976 Edition together with any amendments thereto and all references in this section are to this document.
A51: 0,2 | B51: The whole of the works shall be carried out in accordance with the Contract drawings and any further drawings issued in amplification there of.
A53: 0.3 | B53: This section shall be known as the Trade Preambles and shall be held to include the special Notes on Page A1 and the General Preliminaries on Pages B1 to 22.
A55: 0.4 | B55: These Trade Preambles are intended to supplement, amplify or amend the clauses in the Ministry of Public Works General Specification, or select therefrom specific provisions applicable to this contract.
B57: SITE COPY
A59: 0.5 | B59: The contractor is instructed to purchase two (2) copies of the above General Specification from the Ministry of Public Works Building Department and to retain one copy in the site office at all times.
A61: 2 | B61: APPLICATION
A63: 0.1 | B63: These Trade Preambles shall apply to all Bill items for Building Works contained in the following Bills of Quantities and to any additional works covered by Prime Cost and Provisional Sums and the rates for all items shall include for complying in all respects with these preambles and their provision.
A65: 3 | B65: MANUFACTURES’ NAMES
A67: 0.1 | B67: Manufactures’ name and catalogue reference are given solely as a guide to quality and alternative manufactures of materials or goods of equivalent quality will be accepted at the discretion of the Architects.
A69: 4 | B69: DEMOLITIONS
A71: 0.1 | B71: The trade Preambles given on pages C1 to C5 shall apply.
A73: 0.2 | B73: All demolitions will be done only with the prior approval of the Architect.
B79: DEMOLITIONS (Cont’d)
A81: 0.3 | B81: Responsibility for the safety of the persons and property will rest solely with the Contractor.
A83: 0.4 | B83: Materials arising from the demolition shall be handed to the client.
A85: 0.5 | B85: Materials arising from the debris of walls, concrete rubble etc. may be used as hardcore but with express permission of the Architect.
A87: 0.6 | B87: The contactor shall take are and shall be responsible for all services within the area of operation.
A89: 0.7 | B89: The contractor will price for “take delivery and fix only” for materials supplied by the client from the demolitions and approved by the Architect for use in the works.
A91: 5 | B91: EXCAVATION AND EARTHWORKS
A93: 0.1 | B93: The trade preambles given on pages D1 to D11 shall apply.
A95: 0.2 | B95: Rates are to include for excavating n all materials except class 1 Rock as classified in clause 0634 on page D2. Any other material encountered must be notified to the Architect immediately as specified in clause 0634 and his decision to its class will be final and binding
A97: 0.3 | B97: Insecticide treatment shall be carried out in accordance with clauses 0827 and 0859. The bottoms and sides of al excavations and the top surfaces of hardcore shall be treated with insecticide. The contractor shall provide a ten-year guarantee for all such treatment from an approved firm.
A99: 0.4 | B99: Disposal of surplus excavated material shall be in accordance with clause 0612 and 0783. The rate for this work shall allow for loading, carting away and depositing such material in designated areas within 10 KM of the site and must include for spreading and leveling such material to the satisfaction of the Architect. No compaction will be carried out.
A101: 0.5 | B101: Explosives must not be used without prior approval of the Architect and if authorised, must be carried out in accordance with clause 0628 as specified.
A103: 0.6 | B103: Items for excavation shall be deemed to include excavating for and destroying all white ants’ nests in the vicinity of the building as directed by the Architect and treat as specified in clause 0685.
... A491: 0.1 | B491: The landscaping will be carried out as per Architect’s drawings. Any other trades will be in accordance with relevant sections in these Trade Preambles.
B505: GENERAL CIVIL ENGINEERING SPECIFICATION
B507: (The preceding particular specifications are amplified by the following General Civil Engineering Specification)
A509: 1 | B509: GENERAL
A511: 0.1 | B511: Materials Generally
B513: All materials used on the works shall be new and of the qualities and kinds specified herein and equal to approved samples. Deliveries shall be made sufficiently in advance to enable samples to be taken and tested if required. No materials shall be used until approved and all materials which are not approved or which are damaged, contaminated or have deteriorated in any way or do not comply in any way with the requirements of this specification shall be rejected and shall be immediately removed from the site at the Contractor's expense.
A515: 0.2 | B515: Materials for which there is a Kenya Bureau of Standards specification
B517: All materials used in the works for which a Kenya Bureau of Standards Specification has been published shall conform with the latest edition thereof in every way. The Architect reserves the right to demand that the Contractor shall obtain at his own expense a certificate in respect of any material to state that it is in accordance with the Kenya Bureau of Standard Specification.
A519: 0.3 | B519: All materials used in the works for which no Kenya Bureau of Standards Specification has been published shall conform to the British Standard Specification for such materials. If there are no published standards as specified for any materials, the quality of such material shall be generally of a standard equal to those for which there is a Kenya Bureau of Standards or British Standard Specification.
A521: 0.4 | B521: Alternatives to proprietary brands
B523: Where materials are specified by their proprietary names or where fittings are specified by catalogue numbers, or descriptions, the Contractor may offer materials or fittings of alternative manufacture which are of equal quality. Such alternatives must be approved before being used in the works and the Contractor shall allow for this, but prior to tendering he may submit to the Architect for approval the names of any suppliers or manufacturers whose products he intends to use, together with catalogue numbers and descriptions and/or samples but the decision of the Architect will be final.
...

Sheet SHEDS
A1: ITEM | B1: DESCRIPTION | C1: UNIT | D1: QTY | E1: RATE | F1: AMOUNT
B3: BILL NO.2
B5: ELEMENT NO. 1
B7: SUBSTRUCTURES(All Provisions)
B9: Site clearance
A10: 2.1 | B10: Clear site of grass, shrubs, bush and small trees, grub up roots and clear from site | C10: SM | D10: 182
B12: Excavations
A13: 2.2 | B13: Excavate oversite average 200 mm deep to remove vegetable soil and cart away. | C13: SM | D13: =D10 -> 182
A15: 2.3 | B15: Excavate to reduce levels not exceeding 1.5 m deep starting from stripped level | C15: CM | D15: 273
A17: 2.4 | B17: Ditto: for foundation trenches starting from stripped level | C17: CM | D17: 75
A19: 2.5 | B19: Ditto: for column bases | C19: CM | D19: 24
A21: 2.7 | B21: Allow for maintaining and supporting sides of all excavations and keeping same free from falling materials | C21: ITEM | D21: 1
A23: 2.8 | B23: Allow for keeping excavations free from water and mud by pumping, bailing or other approved method | C23: ITEM | D23: 1
B25: Disposal
A26: 2.9 | B26: Load surplus excavated material and cart away from site. | C26: CM | D26: 93
B28: Filling
A29: 1.1 | B29: Import, fill and compact 700mm thick murram to foundations. | C29: CM | D29: 44
B31: Hardcore
A32: 2.11 | B32: Labour and materials for hand packed hardcore 300 mm thick compacted with one ton roller in 150mm layers. | C32: SM | D32: 120
A34: 2.12 | B34: 50 mm thick layer of quarry dust or other approved blinding to surfaces of excavations: rolled smooth to receive polythene sheeting (m.s) | C34: SM | D34: =D32 -> 120
B37: Carried to collection
A38: ITEM | B38: DESCRIPTION | C38: UNIT | D38: QTY | E38: RATE | F38: AMOUNT
B40: Anti-Termite Treatment
A41: 2.13 | B41: Chemical anti-termite treatment to top of surfaces approved under a ten year guarantee. | C41: SM | D41: =D32 -> 120
B43: Damp Proof Membrane
A44: 2.14 | B44: 1,000 gauge polythene sheeting laid on blinded hardcore bed to receive concrete (m.s.). | C44: SM | D44: =D32 -> 120
B46: Concrete Works
B48: Mass Concrete mix 1:4:8 as described in:-
A50: 2.15 | B50: 50 mm blinding under strip foundations | C50: SM | D50: 32
A52: 2.16 | B52: Ditto: under column bases | C52: SM | D52: 16
B54: Vibrated Reinforced In-Situ Concrete class 25/20 as described in:-
A56: 2.17 | B56: Strip foundations | C56: CM | D56: 9
A58: 2.19 | B58: Column bases | C58: CM | D58: 6
A60: 2.2 | B60: Stub Columns | C60: CM | D60: 2
A62: 2.21 | B62: 150 mm thick bed slab | C62: SM | D62: 120
B64: Precast concrete blocks walling (7N/mm2 minimum crushing strength) in 1:3 cement mortar
A66: 2.22 | B66: 200 mm thick walling: reinforced with 20 gauge hoop iron at alternate courses. | C66: SM | D66: 125
B79: Carried to collection | F79: =SUM(F41:F78) -> 0
A80: ITEM | B80: DESCRIPTION | C80: UNIT | D80: QTY | E80: RATE | F80: AMOUNT
B82: Steel Reinforcement
...

Sheet TOILET BLOCK
A1: ITEM | B1: DESCRIPTION | C1: UNIT | D1: QTY | E1: RATE | F1: AMOUNT
B3: BILL NO.3
B5: ELEMENT NO. 1
B7: SUBSTRUCTURES(All Provisions)
B9: Site clearance
A10: 3.1 | B10: Clear site of grass, shrubs, bush and small trees, grub up roots and clear from site | C10: SM | D10: 62
B12: Excavations
A13: 3.2 | B13: Excavate oversite average 200 mm deep to remove vegetable soil and cart away. | C13: S.M. | D13: 62
A15: 3.3 | B15: Excavate to reduce levels not exceeding 1.5 m deep starting from stripped level | C15: CM | D15: 92
A17: 3.4 | B17: Ditto: for foundation trenches starting from stripped level | C17: C.M. | D17: 32
A19: 3.5 | B19: Ditto: for column bases | C19: C.M. | D19: 13
A21: 3.6 | B21: Extra over excavation for excavating in rock: of any class | C21: C.M. | D21: 5
A23: 3.7 | B23: Allow for maintaining and supporting sides of all excavations and keeping same free from falling materials | C23: ITEM | D23: 1
A25: 3.8 | B25: Allow for keeping excavations free from water and mud by pumping, bailing or other approved method | C25: ITEM | D25: 1
B27: Disposal
A28: 3.9 | B28: Load surplus excavated material and cart away from site | C28: C.M. | D28: 10
B30: Filling
A31: 3.1 | B31: Import, fill and compact 700mm thick murram to foundations. | C31: C.M. | D31: 92
B33: Hardcore
A34: 3.11 | B34: Labour and materials for hand packed hardcore 300 mm thick compacted with one ton roller in 150mm layers | C34: S.M. | D34: 50
A36: 3.12 | B36: 50 mm thick layer of quarry dust or other approved blinding to surfaces of excavations: rolled smooth to receive polythene sheeting (m.s) | C36: SM | D36: 50
B38: Carried to collection
A39: ITEM | B39: DESCRIPTION | C39: UNIT | D39: QTY | E39: RATE | F39: AMOUNT
B41: Anti-Termite Treatment
A42: 3.12 | B42: Chemical anti-termite treatment to top of surfaces approved under a ten ten guarantee | C42: S.M. | D42: 50
B44: Damp Proof Membrane
A45: 3.14 | B45: 1,000 gauge polythene sheeting laid on blinded hardcore bed to receive concrete (m.s.). | C45: S.M. | D45: 50
B47: Concrete Works
B49: Mass Concrete mix 1:4:8 as described in:-
A51: 3.15 | B51: 50 mm blinding under strip foundations | C51: S.M. | D51: 23
A53: 3.16 | B53: Ditto: under column bases | C53: SM | D53: 9
B55: Vibrated Reinforced In-Situ Concrete class 25/20 as described in:-
A57: 3.17 | B57: Strip foundations | C57: CM | D57: 7
A59: 3.18 | B59: Ground beam | C59: C.M. | D59: 5
A61: 3.19 | B61: Column bases | C61: CM | D61: 3
A63: 3.2 | B63: Columns | C63: C.M. | D63: 1
A65: 3.21 | B65: 150 mm thick bed slab | C65: SM | D65: 50
B67: Precast concrete blocks walling (7N/mm2 minimum crushing strength) in 1:3 cement mortar
A69: 3.22 | B69: 200 mm thick walling: reinforced with 20 gauge hoop iron at alternate courses. | C69: S.M. | D69: 57
B78: Carried to collection
...

Sheet GUARD HOUSE
A1: ITEM | B1: DESCRIPTION | C1: UNIT | D1: QTY | E1: RATE | F1: AMOUNT
B3: BILL NO.4
B5: ELEMENT NO. 1
B7: SUBSTRUCTURES(All Provisions)
B9: Site clearance
A10: 4.1 | B10: Clear site of grass, shrubs, bush and small trees, grub up roots and clear from site. | C10: SM | D10: 6
B12: Excavations
A13: 4.2 | B13: Excavate oversite average 200 mm deep to remove vegetable soil and cart away. | C13: S.M. | D13: 6
A15: 4.3 | B15: Excavate to reduce levels not exceeding 1.5 m deep starting from stripped level | C15: CM | D15: 9
A17: 4.4 | B17: Ditto: for foundation trenches starting from stripped level | C17: C.M. | D17: 9
A19: 4.5 | B19: Ditto: for column bases | C19: C.M. | D19: 0
A21: 4.6 | B21: Extra over excavation for excavating in rock: of any class | C21: C.M. | D21: 0
A23: 4.7 | B23: Allow for maintaining and supporting sides of all excavations and keeping same free from falling materials | C23: ITEM | D23: 1
A25: 4.7 | B25: Allow for keeping excavations free from water and mud by pumping, bailing or other approved method | C25: ITEM | D25: 1
B27: Disposal
A28: 4.9 | B28: Load surplus excavated material and cart away from site | C28: C.M. | D28: 9
B30: Filling
A31: 4.1 | B31: Import, fill and compact 700mm thick murram to foundations. | C31: C.M. | D31: 5
B33: Hardcore
A34: 4.11 | B34: Labour and materials for hand packed hardcore 300 mm thick compacted with one ton roller in 150mm layers | C34: S.M. | D34: 7
A36: 4.12 | B36: 50 mm thick layer of quarry dust or other approved blinding to surfaces of excavations: rolled smooth to receive polythene sheeting (m.s) | C36: 50 | D36: 7
B38: Carried to collection
A39: ITEM | B39: DESCRIPTION | C39: UNIT | D39: QTY | E39: RATE | F39: AMOUNT
B41: Anti-Termite Treatment
A42: 4.13 | B42: Chemical anti-termite treatment to top of surfaces approved under a ten ten guarantee | C42: S.M. | D42: 7
B44: Damp Proof Membrane
A45: 4.14 | B45: 1,000 gauge polythene sheeting laid on blinded hardcore bed to receive concrete (m.s.). | C45: S.M. | D45: 7
B47: Concrete Works
B49: Mass Concrete mix 1:4:8 as described in:-
A51: 4.15 | B51: 50 mm blinding under strip foundations | C51: S.M. | D51: 6
A53: 4.16 | B53: Ditto: under column bases | C53: SM | D53: 0
B55: Vibrated Reinforced In-Situ Concrete class 25/20 as described in:-
A57: 4.17 | B57: Strip foundations | C57: CM | D57: 1
A59: 4.18 | B59: Ground beam | C59: C.M. | D59: 1
A61: 4.19 | B61: Column bases | C61: CM | D61: 2
A63: 4.2 | B63: Columns | C63: C.M. | D63: 1
A65: 4.21 | B65: 150 mm thick bed slab | C65: SM | D65: 6
B67: Precast concrete blocks walling (7N/mm2 minimum crushing strength) in 1:3 cement mortar
A69: 4.22 | B69: 200 mm thick walling: reinforced with 20 gauge hoop iron at alternate courses. | C69: S.M. | D69: 12
B80: Carried to collection
...

Sheet MECH
A1: ITEM | B1: DESCRIPTION | C1: QTY. | D1: UNIT | E1: RATE | F1: AMOUNT
F2: SHS.
B4: FOUL DRAINAGE
B6: Supply and fix the following in UPVC. Soil and waste system to BS4514 with fittings fixed to manufactures printed instructions and BS5572-1978 as described. Tenders must allow in their pipework and also where stated for pipe fixing clips or holderbolts plugged and screwed.
B8: Pipework
A10: 5.1 | B10: UPVC soil pipe 150mm diameter | C10: 150 | D10: LM
A12: 5.2 | B12: UPVC 100mm diameter | C12: 20 | D12: LM
A14: 5.3 | B14: UPVC 75mm diameter | C14: 12 | D14: LM
A16: 5.4 | B16: UPVC 50mm diameter | C16: 17 | D16: LM
A18: 5.5 | B18: UPVC 40mm diameter | C18: 20 | D18: LM
A20: 5.6 | B20: UPVC 32mm diameter | C20: 28 | D20: LM
B22: Extra over tubing for the following Bend/ Tees
A24: 5.7 | B24: Long radius bends 100mm diameter | C24: 12 | D24: No
A26: 5.8 | B26: Long radius bends 75mm diameter | C26: 6 | D26: No
A28: 5.9 | B28: Access Bend 100mm diameter | C28: 12 | D28: No
A30: 5.1 | B30: Access bends 50mm diameter | C30: 5 | D30: No
A32: 5.11 | B32: Access bends 40mm diameter | C32: 5 | D32: No
A34: 5.12 | B34: Access bends 32mm diameter | C34: 18 | D34: No
A36: 5.13 | B36: Single branch Tee 100mm diameter | C36: 6 | D36: No
A38: 5.14 | B38: Ditto but 50mm diameter | C38: 6 | D38: No
B44: TOTAL CARRIED FORWARD TO COLLECTION | F44: =SUM(F10:F43) -> 0
A45: ITEM | B45: DESCRIPTION | C45: QTY. | D45: UNIT | E45: RATE | F45: AMOUNT
F46: SHS.
B47: INTERNAL DRAINAGE (CONT'D)
A49: 5.15 | B49: Ditto but 40mm diameter | C49: 6 | D49: No
A51: 5.16 | B51: Ditto but 32mm diameter | C51: 8 | D51: No
A53: 5.17 | B53: Access caps, Plug 100mm diameter | C53: 12 | D53: No
A55: 5.18 | B55: Access caps, Plug 50mm diameter | C55: 8 | D55: No
A57: 5.19 | B57: Access cap Plug 40mm diameter | C57: 8 | D57: No
A59: 5.2 | B59: 50 x 40 Reducing Bush | C59: 12 | D59: No
A61: 5.21 | B61: 40 x 32 Reducing Bush | C61: 12 | D61: No
A63: 5.22 | B63: WC connectors | C63: 8 | D63: No
A65: 5.23 | B65: 100mm diameter Vent Cowl | C65: 4 | D65: No
A67: 5.24 | B67: Stainless Steel Floor Trap | C67: 6 | D67: No
B69: Rainwater Drainage Drop Pipes
B71: Allow for Rainwater Drainage Pipes with all related accesorries fixed to manufactures printed instructions and BS5572-1978 as described.
A73: 5.25 | B73: UPVC soil pipe 100mm diameter | C73: 17 | D73: LM
A75: 5.26 | B75: 300x300x200mm deep masonary gulley trap complete with 100mm u-PVC P-trap gully with grating of mild steel | C75: 3 | D75: No
B87: TOTAL CARRIED FORWARD TO COLLECTION | F87: =SUM(F48:F86) -> 0
A88: ITEM | B88: DESCRIPTION | C88: UNIT | D88: QTY | E88: RATE | F88: SHS
...

Sheet ELEC
B1: PROPOSED OTONGOLO MARKET
B2: ELECTRICAL INSTALLATION
B3: SECTION 1:LIGHTING
A5: ITEM NO. | B5: DESCRIPTION | C5: QTY | D5: UNIT | E5: RATE | F5: AMOUNT
F6: KShs. Cts.
B7: Supply, install, test, commission and set to work the following. All lighting fittings to be complete with lamp, control gear etc as applicable. PLEASE NOTE: ALL LED LIGHT FITTINGS TO BE RATED 220-240V AC
B9: Lighting
A11: 6.1 | B11: Lighting point 1-way switched. | C11: 40 | D11: No.
A12: 6.2 | B12: Lighting point 2-way switched. | C12: 111 | D12: No.
A13: 6.3 | B13: 5 A white moulded switch plates as MK or Crabtree: -
B14: (b) 1-gang 2-way | C14: 8 | D14: No.
B15: (c) 2-gang 1-way | C15: 2 | D15: No.
B16: (d) 3-gang 2-way | C16: 2 | D16: No.
B17: (e) 4-gang 2-way | C17: 2 | D17: No.
A19: 6.4 | B19: 1 x 36W HPF bare fluorescent batten fitting as Thorn PP 136 or approved equivalent | C19: 23 | D19: No.
A21: 6.5 | B21: 16W 2D shallow plastic light fitting as Thorn super club Cat. No. 2D CL16W complete with lamp | C21: 8 | D21: No.
A23: 6.6 | B23: High efficiency wall mounted enclosed LM6 aluminium floodlight with polycarbonate front and internal control gear for 150W (internal ignitor) HP – E/1 lamp and sealed to IP 65 as Thorn SonPAK 7, or approved equivalent | C23: 4 | D23: No
A25: 6.7 | B25: 5A (fused) photocell unit as Thorn QPK/Timer switch for the above signs, and ATM lobby lights. | C25: 2 | D25: No
A27: 6.8 | B27: Excavate cable trench, average depth 700mm, remove soft earth, lay cable, cover with “HATARI” tiles, back fill soil and compact to natural ground level. | C27: 800 | D27: m.
A29: 6.9 | B29: 2 core 4.0mm² PVC/SWA/PVC cable. | C29: 800 | D29: m.
B30: Total carried to summary | F30: =SUM(F11:F29) -> 0
B32: SECTION 2: POWER DISTRIBUTION
A34: ITEM NO. | B34: DESCRIPTION | C34: QTY | D34: UNIT | E34: RATE | F34: AMOUNT
B35: Power Distribution
A36: 6.1 | B36: Twin standard 13A-socket outlet for normal power, wired in 6x2.5mm² SC-PVC-CU cables inside trunking/concealed conduits, complete with 13A twin switched socket outlet plate, white colour, as MK or approved eqiuvalent. | C36: 8 | D36: No
A38: 6.11 | B38: 8-way TP/N power distribution board complete with 125A TP/N integral isolator and all accessories including lockable cover. The Distribution Board to be as Crabtree or Multi-9, or approved equivalent. | C38: 2 | D38: No
A40: 6.12 | B40: SP MCBs inside the DB | C40: 15 | D40: No
A42: 6.13 | B42: Blanking plates for the unused spare ways | C42: 10 | D42: No
A44: 6.14 | B44: 4C 25mm2 PVC/SWA/PVC copper cable for the DB above | C44: 100 | D44: lm
A46: 6.15 | B46: cable lugs of the above | C46: 8 | D46: No
A48: 6.16 | B48: 100mm PVC duct for the above submain cable | C48: 120 | D48: Lm
A50: 6.17 | B50: Meter board | C50: 1 | D50: No
A52: 6.18 | B52: Build 600x600x700mm deep Power manhole with internal plaster and heavy duty EAFW steel cover | C52: 3 | D52: No
B67: Total carried to summary page | F67: =SUM(F36:F52) -> 0
B68: SECTION 3: GENERAL ITEMS
A69: ITEM NO. | B69: DESCRIPTION | C69: QTY | D69: UNIT | E69: RATE | F69: AMOUNT
B71: General items
A72: 6.19 | B72: Carry out comprehensive 24-hour power analysis, after installation of switch-gear, with a digital power meter (with printer) to:
B74: i) Record and print all the power system parameters. | C74: 1 | D74: Item
B75: ii) Submit 3 copies of the printouts.
...

Sheet EW
A1: ITEM | B1: DESCRIPTION | C1: UNIT | D1: QTY | E1: RATE | F1: AMOUNT
B3: BILL NO.7
B5: EXTERNAL WORKS
B7: PARKING AND DRIVE WAY
B9: EXCAVATIONS AND EARTHWORK
B11: Excavation including maintaining and supporting sides and keeping free from water, mud and fallen materials
A13: 7.1 | B13: Excavate oversite to reduce levels commencing at existing ground level but exceeding 200mm deep. | C13: m2 | D13: 840
B15: For foundations commencing at reduced level
A16: 7.2 | B16: 0.2 to 1.50 metres deep | C16: m3 | D16: 1260
B18: Disposal
A20: 7.3 | B20: Backfilling to make up levels | C20: m3 | D20: 168
A22: 7.4 | B22: Load, and cart away excavated materials from site | C22: m3 | D22: 1092
B24: Imported filling
B26: Sub-base and base courses
A28: 7.5 | B28: Hardcore filling in compacted layers | C28: m3 | D28: 966
A30: 7.6 | B30: Imported murram filling compacted and laid to falls and cross falls in 150 mm thick layers | C30: m3 | D30: 252
B32: Road surface Treatment
A34: 7.7 | B34: Grade bottoms of excavations to fall and cross falls
B35: including rolling and compacting to 100% M.D.D
B36: (BS 1377) standard compaction. | C36: SM | D36: =D13 -> 840
A38: 7.8 | B38: Treat the top surface of blinded hardcore base with
B39: Hyvar', 'Telvar" or any other approved weed killer.
B40: Certificate of guarantee for 12months to be provided
B41: on completion of the treatment. | C41: SM | D41: =D13 -> 840
B48: CARRIED TO COLLECTION
A49: ITEM | B49: DESCRIPTION | C49: UNIT | D49: QTY | E49: RATE | F49: AMOUNT
B51: Road Formation
A52: 7.9 | B52: 150mm thick approved gravel sub base well watered
B53: and compacted to 95% M.D.D standard compaction. | C53: SM | D53: =D13 -> 840
A55: 7.1 | B55: 150mm thick hand packed stone base course well
B56: compacted to 98% M.D.D. standard compaction
B57: and blinded with approved fine material (Murram,
B58: sand or stone dust) 25mm thick and finished to
B59: falls, cross falls and chambers to receive premise
B60: surfacing (M.S) | C60: SM | D60: =D13 -> 840
B62: Road Surface Finish
B64: Concrete block paving (as manufactured by Cabroworks Limited)
A66: 7.11 | B66: Heavy industrial blocks size 210 x 105 x 80 mm (minimum strength 45N per square mm) laid on and including 50 mm screeded sand bed and compacted surface vibration | C66: m2 | D66: 840
B68: Precast concrete kerbs and channels to B.S. 340
A70: 7.12 | B70: 127 x 254 mm Kerb, rounded on one corner, laid on and including concrete 1:3:6 base size 225 x 100 mm hauched up behind | C70: m | D70: 260
...

Sheet PS
A1: ITEM | B1: DESCRIPTION | C1: UNIT | D1: QTY | E1: RATE | F1: AMOUNT
B2: BILL NO. 8
B4: PROVISIONAL SUMS
B6: The following sums may be expended or omittted in whole or part on written authority of the Architect with approval by the client
B8: Relocation of services
A9: 8.1 | B9: Provide a provisional sum of Kenya Shillings Three Million Only (Ksh 3,000,000) for Relocation of Services ( including preparation of traders relocation area and Reinstatement of the site) to be expended in whole or in part as directed by the Project Manager (City Engineer) through exercuted as 'Dayworks'. | C9: SUM | F9: 3000000
B11: Administrative cost
A12: 8.2 | B12: Allow a PC sum of Kenya Shillings Two Million Five Hundred Thousand Only for Administrative costs to be expended in whole or in part for the services of the Resident Architect, Clerk of Works and operation of the site office as directed by the Project manager (City Engineer) upon submission up to date schedule of monthly expenditure submited together with the request for payments. | C12: SUM | F12: 2500000
A14: 8.3 | B14: Allow % of item "8.2 " above for contractors over heads and profits. | C14: 0 | D14: 0.05 | F14: =F12*C14 -> 0
B16: HIV/AIDS Training and awareness
A17: 8.4 | B17: Allow a Provisional Sum of KES 100,000 for HIV/AIDS Training to be expended in whole or in part as directed by the Project manager (City Engineer) upon submission of approved monthly progress reports. | C17: SUM | F17: 100000
B19: Signs and Lettering
A20: 8.5 | B20: Provide a Prime cost Sum of KES 300,000 for signs and lettering | C20: SUM | F20: 300000
B22: Environmental, Social, Health and Safety (ESHS)
A23: 8.6 | B23: Allow aProvisional Sum of Kenya Shillings Five Hundred Thousand Only for Environmental, Social, Health and Safety (ESHS) costs to be expended in whole or in part as directed by the Project Manager (City Engineer) upon submission of approved monthly compliannce report. | C23: SUM | F23: 500000
B25: Carried to Collection | E25: Kshs. | F25: =SUM(F9:F24) -> 6400000
A26: ITEM | B26: DESCRIPTION | C26: QTY | D26: UNIT | E26: RATE | F26: AMOUNT
B28: PROVISIONAL SUMS Cont.
A30: 8.7 | B30: Allow a provional sum of Kshs. 1,000,000 (One million Only) for construction of Waste cubicle | F30: 1000000
A32: 8.8 | B32: Allow a provional sum of Kshs.2,000,000 (Two Million Only) for Elevated water tank . | F32: 2000000
A34: 8.9 | B34: Allow a provional sum of Kshs. 2,000,000b (One million Only) for construction of septic tank | F34: 2000000
A36: 8.1 | B36: Allow a provional sum of Kshs. 500,000 (One million Only) for Land scaping | F36: 500000
A38: 8.11 | B38: Allow a provional sum of (Kshs. 350,000) Three hundred and fifty thousand shillings only for clearing temporary structures and stalls. | F38: 350000
B42: Carried to collection | F42: =SUM(F30:F38) -> 5850000
B45: Collection
B47: Brought forward from page PS-1 | F47: =F25 -> 6400000
B49: Brought forward from page PS-2 | F49: =F42 -> 5850000
B62: TOTAL CARRIED TO GRAND SUMMARY | F62: 0

Sheet GS
C2: PROPOSED DEVELOPMENT OF OTONGLO MARKET
D3: FOR KISUMU URBAN PROJECTS
D5: MAIN SUMMARY
A7: ITEM | B7: SECTION | E7: BILL NO. | F7: PAGE NO | G7: AMOUNT IN KSHS
A9: A | B9: PRELIMINARIES | E9: 1 | F9: 15 | G9: ='General Preliminaries '!C375 -> 0
A11: B | B11: SHEDS | E11: 2 | F11: S/11 | G11: =SHEDS!F489 -> 0
A13: C | B13: TOILET BLOCK | E13: 3 | F13: TB/21 | G13: ='TOILET BLOCK'!F923 -> 0
A15: D | B15: GUARD HOUSE | E15: 4 | F15: GH/21 | G15: ='GUARD HOUSE'!F932 -> 0
A17: E | B17: MECHANICAL WORKS | E17: 5 | F17: M/11 | G17: =MECH!F648 -> 0
A19: F | B19: ELECTRICAL WORKS | E19: 6 | F19: E/4 | G19: =ELEC!F114 -> 0
A21: G | B21: EXTERNAL WORKS | E21: 7 | F21: EW/10 | G21: =EW!F647 -> 0
A23: H | B23: PC AND PROVISIONAL SUMS | E23: 8 | F23: PS/2 | G23: =PS!F62 -> 0
B25: SUBTOTAL TOTAL
A27: I | B27: ADD 10% CONTINGENCY | G27: =G25*5% -> 0
B29: TOTAL CARRIED TO FORM OF TENDER | G29: =SUM(G25:G28) -> 0
B31: EMPLOYER CONTRACTOR
B33: NAME……………………………………….… NAME………..…..……………………
B35: ………………………………………………….. …….……..…………………………..
B37: SIGNATURE……………………...…………… SIGNATURE……....…………..
B39: ADDRESS………………………………..…… ADDRESS……..………………..
B41: ………………………………………………….. …….……..…………………………..
B43: DATE…………………………….……….…… DATE………….…….…………..
B46: Kindly note that the rates adopted are VAT exclusive

Sheet Sheet1
